Workbook

Sheet ORÇAMENTO
A1: BOLETIM DE MEDIÇÃO - BM4
A2: Obra: Proinfância - Tipo 1
A3: Município: Ipameri - Goiás
A4: Elaborado em: 21/09/2020
A5: EMPRESA: VIVA Engenharia LTDA CNPJ: 03.188.338/0001-07
A6: Edificação principal do Proinfância 1
A8: ITEM | B8: DESCRIÇÃO DOS SERVIÇOS | C8: UNID. | D8: QUANT. | E8: PR. UNIT.(R$) COM BDI | F8: PR. TOTAL (R$) COM BDI | G8: QUANTIDADE | I8: FINACEIRO | K8: (%)
G9: Medido no Período | H9: Acumulado incluindo o Período | I9: Medido no Período | J9: Acumulado incluindo o Período | K9: Medido no Período | L9: Acumulado incluindo o Período
A10: 1 | B10: SERVIÇOS PRELIMINARES
A11: 1.1 | B11: Placa de obra na chapa 26 pintada | C11: m² | D11: 6 | E11: 112.44375 | F11: 674.6625 | G11: =K11*D11 -> 0 | H11: =D11*L11 -> 6 | I11: =F11*K11 -> 0 | J11: =F11*L11 -> 674.6625 | L11: 1
A12: 1.2 | B12: Instalação provisória de água | C12: un | D12: 1 | E12: 1126.4115 | F12: 1126.4115 | G12: =K12*D12 -> 0 | H12: =D12*L11 -> 1 | I12: =F12*K12 -> 0 | J12: =F12*L11 -> 1126.4115 | L12: 1
A13: 1.3 | B13: Instalação provisória de energia elétrica em baixa tensão | C13: un | D13: 1 | E13: 1887.6807 | F13: 1887.6807 | G13: =K13*D13 -> 0 | H13: =D13*L12 -> 1 | I13: =F13*K13 -> 0 | J13: =F13*L12 -> 1887.6807 | L13: 1
A14: 1.4 | B14: Instalações provisórias de esgoto | C14: un | D14: 1 | E14: 257.37125 | F14: 257.37125 | G14: =K14*D14 -> 0 | H14: =D14*L13 -> 1 | I14: =F14*K14 -> 0 | J14: =F14*L13 -> 257.37125 | L14: 1
A15: 1.5 | B15: Barracão para obras de médio porte reaproveitamento 2 vezes | C15: m² | D15: 40 | E15: 177.52369 | F15: 7100.9478 | G15: =K15*D15 -> 0 | H15: =D15*L14 -> 40 | I15: =F15*K15 -> 0 | J15: =F15*L14 -> 7100.9478 | L15: 1
A16: 1.6 | B16: LOCACAO CONVENCIONAL DE OBRA, ATRAVÉS DE GABARITO DE TABUAS CORRIDAS P M2 CR 3,49 ONTALETADAS, COM REAPROVEITAMENTO DE 10 VEZES. | C16: m² | D16: 1510.23 | E16: 4.3603188 | F16: 6585.0842 | G16: =K16*D16 -> 0 | H16: =D16*L15 -> 1510.23 | I16: =F16*K16 -> 0 | J16: =F16*L15 -> 6585.0842 | L16: 1
A17: 1.7 | B17: SONDAGEM À PERCUSSÃO P/RECONHECIMENTO DO SUBSOLO | C17: m | D17: 56 | E17: 68.115925 | F17: 3814.4918 | G17: =K17*D17 -> 0 | H17: =D17*L16 -> 56 | I17: =F17*K17 -> 0 | J17: =F17*L16 -> 3814.4918 | L17: 1
A18: 1.8 | B18: TAPUME DE CHAPA DE MADEIRA COMPENSADA, E= 6MM, COM PINTURA A CAL E REAPROVEITAMENTO DE 2X | C18: m² | D18: 80 | E18: 53.223375 | F18: 4257.87 | G18: =K18*D18 -> 0 | H18: =D18*L17 -> 80 | I18: =F18*K18 -> 0 | J18: =F18*L17 -> 4257.87 | L18: 1
E19: 25704.52
A21: 2 | B21: MOVIMENTO DE TERRAS PARA FUNDAÇÕES
A22: 2.1 | B22: EDIFICAÇÃO
A23: 2.1.1 | B23: ATERRO C/COMPACTAÇÃO MANUAL S/CONTROLE, MAT. PRODUZIDO (S/TRANSP.) | C23: m³ | D23: 270.4 | E23: 24.250369 | F23: 6557.2997 | G23: =K23*D23 -> 0 | H23: =D23*L23 -> 270.4 | I23: =F23*K23 -> 0 | J23: =F23*L23 -> 6557.2997 | L23: 1
A24: 2.1.2 | B24: ESCAVAÇÃO MANUAL SOLO DE 1A.CAT. PROF. ATÉ 1.50m | C24: m³ | D24: 142.17 | E24: 30.209888 | F24: 4294.9397 | G24: =K24*D24 -> 0 | H24: =D24*L24 -> 142.17 | I24: =F24*K24 -> 0 | J24: =F24*L24 -> 4294.9397 | L24: 1
A25: 2.1.3 | B25: Nivelamento de Fundo de Valas | C25: m² | D25: 263.11 | E25: 4.4852562 | F25: 1180.1158 | G25: =K25*D25 -> 0 | H25: =D25*L25 -> 263.11 | I25: =F25*K25 -> 0 | J25: =F25*L25 -> 1180.1158 | L25: 1
A26: 2.1.4 | B26: REATERRO C/COMPACTAÇÃO MANUAL S/CONTROLE, MATERIAL DA VALA | C26: m³ | D26: 56.39 | E26: 19.377806 | F26: 1092.7145 | G26: =K26*D26 -> 0 | H26: =D26*L26 -> 56.39 | I26: =F26*K26 -> 0 | J26: =F26*L26 -> 1092.7145 | L26: 1
A27: 2.2 | B27: MURETA
A28: 2.2.1 | B28: ESCAVAÇAO MANUAL DE VALAS PROF.1 A 2 M | C28: m³ | D28: 11.26 | E28: 41.116931 | F28: 462.97665 | G28: =K28*D28 -> 0 | H28: =D28*L28 -> 0 | I28: =F28*K28 -> 0 | J28: =F28*L28 -> 0
A29: 2.2.2 | B29: PREPARO DE FUNDO DE VALA COM LARGURA MENOR QUE 1,5 M, EM LOCAL COM NÍVEL BAIXO DE INTERFERÊNCIA. AF_06/2016 | C29: m² | D29: 17.74 | E29: 4.69765 | F29: 83.336311 | G29: =K29*D29 -> 0 | H29: =D29*L29 -> 0 | I29: =F29*K29 -> 0 | J29: =F29*L29 -> 0
A30: 2.2.3 | B30: REATERRO DE VALA COM COMPACTAÇÃO MANUAL | C30: m³ | D30: 6.39 | E30: 43.47825 | F30: 277.82602 | G30: =K30*D30 -> 0 | H30: =D30*L30 -> 0 | I30: =F30*K30 -> 0 | J30: =F30*L30 -> 0
A31: 2.3 | B31: CASTELO D'ÁGUA
A32: 2.3.1 | B32: ESCAVAÇÃO MANUAL SOLO DE 1A.CAT. PROF. ATÉ 1.50m | C32: m³ | D32: 5.78 | E32: 30.209888 | F32: 174.61315 | G32: =K32*D32 -> 0 | H32: =D32*L32 -> 5.78 | I32: =F32*K32 -> 0 | J32: =F32*L32 -> 174.61315 | L32: 1
A33: 2.3.2 | B33: Nivelamento de Fundo de Valas | C33: m² | D33: 12.96 | E33: 4.4852562 | F33: 58.128921 | G33: =K33*D33 -> 0 | H33: =D33*L33 -> 12.96 | I33: =F33*K33 -> 0 | J33: =F33*L33 -> 58.128921 | L33: 1
A34: 2.3.3 | B34: REATERRO DE VALA COM COMPACTAÇÃO MANUAL | C34: m³ | D34: 1.06 | E34: 43.47825 | F34: 46.086945 | G34: =K34*D34 -> 0 | H34: =D34*L34 -> 1.06 | I34: =F34*K34 -> 0 | J34: =F34*L34 -> 46.086945 | L34: 1
E35: 14228.038
A37: 3 | B37: FUNDAÇÕES
A38: 3.1 | B38: CONCRETO ARMADO PARA FUNDAÇÕES - BLOCOS
A39: 3.1.1 | B39: Estaca a trado (broca) d=20 cm com concreto fck=15 Mpa (sem armação) | C39: m | D39: 399 | E39: 45.389794 | F39: 18110.528 | G39: =K39*D39 -> 0 | H39: =D39*L39 -> 399 | I39: =F39*K39 -> 0 | J39: =F39*L39 -> 18110.528 | L39: 1
A40: 3.1.2 | B40: LASTRO DE CONCRETO, E = 3 CM, PREPARO MECÂNICO, INCLUSOS LANÇAMENTO E ADENSAMENTO. AF_07_2016 | C40: m² | D40: 73.61 | E40: 13.418288 | F40: 987.72014 | G40: =K40*D40 -> 0 | H40: =D40*L40 -> 73.61 | I40: =F40*K40 -> 0 | J40: =F40*L40 -> 987.72014 | L40: 1
A41: 3.1.3 | B41: Forma de madeira comum para Fundações - reaproveitamento 10X | C41: m² | D41: 133.93 | E41: 29.68515 | F41: 3975.7321 | G41: =K41*D41 -> 0 | H41: =D41*L41 -> 133.93 | I41: =F41*K41 -> 0 | J41: =F41*L41 -> 3975.7321 | L41: 1
A42: 3.1.4 | B42: ARMADURA CA-50A MÉDIA D= 6,3 A 10,0mm | C42: kg | D42: 654.18 | E42: 8.3333313 | F42: 5451.4986 | G42: =K42*D42 -> 0 | H42: =D42*L42 -> 654.18 | I42: =F42*K42 -> 0 | J42: =F42*L42 -> 5451.4986 | L42: 1
A43: 3.1.5 | B43: ARMADURA CA-60 FINA D=3,40 A 6,40mm | C43: kg | D43: 383.55 | E43: 8.29585 | F43: 3181.8733 | G43: =K43*D43 -> 0 | H43: =D43*L43 -> 383.55 | I43: =F43*K43 -> 0 | J43: =F43*L43 -> 3181.8733 | L43: 1
...

Sheet MEMORIAL DE CALCULO
A1: MEMORIAL DE CÁLCULO
A2: Obra: Proinfância - Tipo 1
A3: Município: Ipameri - Goiás
A4: =ORÇAMENTO!A4 -> Elaborado em: 21/09/2020
A5: EMPRESA: VIVA Engenharia LTDA CNPJ: 03.188.338/0001-07
A6: Edificação principal do Proinfância 1
B8: DESCRIÇÃO DOS SERVIÇOS | C8: UNID. | D8: QUANT. TOTAL | E8: QUANTIDADE | F8: (%) | G8: MEMORIAL DE CÁLCULO
A10: 1 | B10: SERVIÇOS PRELIMINARES
A11: 1.1 | B11: Placa de obra na chapa 26 pintada | C11: m² | D11: 6 | E11: 6 | F11: 1 | G11: =D11 -> 6 | H11: * | I11: =F11 -> 1 | J11: = | K11: =I11*G11 -> 6
A12: 1.2 | B12: Instalação provisória de água | C12: un | D12: 1 | E12: 1 | F12: 0 | G12: =D12 -> 1 | H12: * | I12: =F12 -> 0 | J12: = | K12: =I12*G12 -> 0
A13: 1.3 | B13: Instalação provisória de energia elétrica em baixa tensão | C13: un | D13: 1 | E13: 1 | F13: 0 | G13: =D13 -> 1 | H13: * | I13: =F13 -> 0 | J13: = | K13: =I13*G13 -> 0
A14: 1.4 | B14: Instalações provisórias de esgoto | C14: un | D14: 1 | E14: 1 | F14: 0 | G14: =D14 -> 1 | H14: * | I14: =F14 -> 0 | J14: = | K14: =I14*G14 -> 0
A15: 1.5 | B15: Barracão para obras de médio porte reaproveitamento 2 vezes | C15: m² | D15: 40 | E15: 40 | F15: 1 | G15: =D15 -> 40 | H15: * | I15: =F15 -> 1 | J15: = | K15: =I15*G15 -> 40
A16: 1.6 | B16: LOCACAO CONVENCIONAL DE OBRA, ATRAVÉS DE GABARITO DE TABUAS CORRIDAS P M2 CR 3,49 ONTALETADAS, COM REAPROVEITAMENTO DE 10 VEZES. | C16: m² | D16: 1510.23 | E16: 1510.23 | F16: 0 | G16: =D16 -> 1510.23 | H16: * | I16: =F16 -> 0 | J16: = | K16: =I16*G16 -> 0
A17: 1.7 | B17: SONDAGEM À PERCUSSÃO P/RECONHECIMENTO DO SUBSOLO | C17: m | D17: 56 | E17: 56 | F17: 0 | G17: =D17 -> 56 | H17: * | I17: =F17 -> 0 | J17: = | K17: =I17*G17 -> 0
A18: 1.8 | B18: TAPUME DE CHAPA DE MADEIRA COMPENSADA, E= 6MM, COM PINTURA A CAL E REAPROVEITAMENTO DE 2X | C18: m² | D18: 80 | E18: 80 | F18: 0 | G18: =D18 -> 80 | H18: * | I18: =F18 -> 0 | J18: = | K18: =I18*G18 -> 0
A21: 2 | B21: MOVIMENTO DE TERRAS PARA FUNDAÇÕES
A22: 2.1 | B22: EDIFICAÇÃO
A23: 2.1.1 | B23: ATERRO C/COMPACTAÇÃO MANUAL S/CONTROLE, MAT. PRODUZIDO (S/TRANSP.) | C23: m³ | D23: 270.4 | E23: 270.4 | F23: 0 | G23: =D23 -> 270.4 | H23: * | I23: =F23 -> 0 | J23: = | K23: =I23*G23 -> 0
A24: 2.1.2 | B24: ESCAVAÇÃO MANUAL SOLO DE 1A.CAT. PROF. ATÉ 1.50m | C24: m³ | D24: 142.17 | E24: 142.17 | F24: 0 | G24: =D24 -> 142.17 | H24: * | I24: =F24 -> 0 | J24: = | K24: =I24*G24 -> 0
A25: 2.1.3 | B25: Nivelamento de Fundo de Valas | C25: m² | D25: 263.11 | E25: 263.11 | F25: 0 | G25: =D25 -> 263.11 | H25: * | I25: =F25 -> 0 | J25: = | K25: =I25*G25 -> 0
A26: 2.1.4 | B26: REATERRO C/COMPACTAÇÃO MANUAL S/CONTROLE, MATERIAL DA VALA | C26: m³ | D26: 56.39 | E26: 56.39 | F26: 0 | G26: =D26 -> 56.39 | H26: * | I26: =F26 -> 0 | J26: = | K26: =I26*G26 -> 0
A27: 2.2 | B27: MURETA
A28: 2.2.1 | B28: ESCAVAÇAO MANUAL DE VALAS PROF.1 A 2 M | C28: m³ | D28: 11.26 | E28: 0 | F28: 1 | G28: =D28 -> 11.26 | H28: * | I28: =F28 -> 1 | J28: = | K28: =I28*G28 -> 11.26
A29: 2.2.2 | B29: PREPARO DE FUNDO DE VALA COM LARGURA MENOR QUE 1,5 M, EM LOCAL COM NÍVEL BAIXO DE INTERFERÊNCIA. AF_06/2016 | C29: m² | D29: 17.74 | E29: 0 | F29: 1 | G29: =D29 -> 17.74 | H29: * | I29: =F29 -> 1 | J29: = | K29: =I29*G29 -> 17.74
A30: 2.2.3 | B30: REATERRO DE VALA COM COMPACTAÇÃO MANUAL | C30: m³ | D30: 6.39 | E30: 0 | F30: 1 | G30: =D30 -> 6.39 | H30: * | I30: =F30 -> 1 | J30: = | K30: =I30*G30 -> 6.39
A31: 2.3 | B31: CASTELO D'ÁGUA
A32: 2.3.1 | B32: ESCAVAÇÃO MANUAL SOLO DE 1A.CAT. PROF. ATÉ 1.50m | C32: m³ | D32: 5.78 | E32: 5.78 | F32: 0 | G32: =D32 -> 5.78 | H32: * | I32: =F32 -> 0 | J32: = | K32: =I32*G32 -> 0
A33: 2.3.2 | B33: Nivelamento de Fundo de Valas | C33: m² | D33: 12.96 | E33: 12.96 | F33: 0 | G33: =D33 -> 12.96 | H33: * | I33: =F33 -> 0 | J33: = | K33: =I33*G33 -> 0
A34: 2.3.3 | B34: REATERRO DE VALA COM COMPACTAÇÃO MANUAL | C34: m³ | D34: 1.06 | E34: 1.06 | F34: 0 | G34: =D34 -> 1.06 | H34: * | I34: =F34 -> 0 | J34: = | K34: =I34*G34 -> 0
A37: 3 | B37: FUNDAÇÕES
A38: 3.1 | B38: CONCRETO ARMADO PARA FUNDAÇÕES - BLOCOS
A39: 3.1.1 | B39: Estaca a trado (broca) d=20 cm com concreto fck=15 Mpa (sem armação) | C39: m | D39: 399 | E39: 399 | F39: 0 | G39: =D39 -> 399 | H39: * | I39: =F39 -> 0 | J39: = | K39: =I39*G39 -> 0
A40: 3.1.2 | B40: LASTRO DE CONCRETO, E = 3 CM, PREPARO MECÂNICO, INCLUSOS LANÇAMENTO E ADENSAMENTO. AF_07_2016 | C40: m² | D40: 73.61 | E40: 73.61 | F40: 0 | G40: =D40 -> 73.61 | H40: * | I40: =F40 -> 0 | J40: = | K40: =I40*G40 -> 0
A41: 3.1.3 | B41: Forma de madeira comum para Fundações - reaproveitamento 10X | C41: m² | D41: 133.93 | E41: 133.93 | F41: 0 | G41: =D41 -> 133.93 | H41: * | I41: =F41 -> 0 | J41: = | K41: =I41*G41 -> 0
A42: 3.1.4 | B42: ARMADURA CA-50A MÉDIA D= 6,3 A 10,0mm | C42: kg | D42: 654.18 | E42: 654.18 | F42: 0 | G42: =D42 -> 654.18 | H42: * | I42: =F42 -> 0 | J42: = | K42: =I42*G42 -> 0
A43: 3.1.5 | B43: ARMADURA CA-60 FINA D=3,40 A 6,40mm | C43: kg | D43: 383.55 | E43: 383.55 | F43: 0 | G43: =D43 -> 383.55 | H43: * | I43: =F43 -> 0 | J43: = | K43: =I43*G43 -> 0
A44: 3.1.6 | B44: PREPARO COM BETONEIRA E TRANSPORTE MANUAL DE CONCRETO FCK=25 MPA | C44: m³ | D44: 32.38 | E44: 32.38 | F44: 0 | G44: =D44 -> 32.38 | H44: * | I44: =F44 -> 0 | J44: = | K44: =I44*G44 -> 0
A45: 3.1.7 | B45: LANÇAMENTO/APLICAÇÃO/ADENSAMENTO DE CONCRETO EM FUNDAÇÃO- (O.C.) | C45: m³ | D45: 32.38 | E45: 32.38 | F45: 0 | G45: =D45 -> 32.38 | H45: * | I45: =F45 -> 0 | J45: = | K45: =I45*G45 -> 0
A46: 3.2 | B46: CONCRETO ARMADO PARA FUNDAÇÕES - VIGAS BALDRAMES | F46: 0
...

Sheet CRONOGRAMA
A1: CRONOGRAMA FÍSICO FINANCEIRO
A4: Obra: Proinfância - Tipo 1
A5: Município: Ipameri - Goiás
A6: Elaborado em: 03/07/2017
A7: EMPRESA: VIVA Engenharia LTDA CNPJ: 03.188.338/0001-07
A8: Planejamento
A10: ITEM | B10: DESCRIÇÃO DOS SERVIÇOS | C10: VALOR (R$) | D10: % ITEM | E10: 1 | F10: 2 | G10: 3 | H10: 4 | I10: 5 | J10: 6 | K10: 7 | L10: 8 | M10: 9 | N10: 10
A12: 1 | B12: SERVIÇOS PRELIMINARES | C12: =ORÇAMENTO!E19 -> 25704.52 | D12: =(C12/$C$65) -> 0.011404285 | E12: 1
E13: =C12*E12 -> 25704.52
A14: 2 | B14: MOVIMENTO DE TERRAS PARA FUNDAÇÕES | C14: =ORÇAMENTO!E35 -> 14228.038 | D14: =(C14/$C$65) -> 0.006312532 | E14: 0.15 | F14: 0.85
E15: =$C14*E14 -> 2134.2057 | F15: =$C14*F14 -> 12093.832
A16: 3 | B16: FUNDAÇÕES | C16: =ORÇAMENTO!E80 -> 118330.82 | D16: =(C16/$C$65) -> 0.052499658 | F16: 0.7 | G16: 0.3
F17: =C16*F16 -> 82831.577 | G17: =C16*G16 -> 35499.247
A18: 4 | B18: SUPERESTRUTURA | C18: =ORÇAMENTO!E120 -> 151684.87 | D18: =(C18/$C$65) -> 0.067297795 | F18: 0.1 | G18: 0.7 | H18: 0.2
F19: =C18*F18 -> 15168.487 | G19: =C18*G18 -> 106179.41 | H19: =C18*H18 -> 30336.973
A20: 5 | B20: SISTEMA DE VEDAÇÃO VERTICAL INTERNO E EXTERNO (PAREDES) | C20: =ORÇAMENTO!E133 -> 81894.825 | D20: =(C20/$C$65) -> 0.036334153 | G20: 0.15 | H20: 0.4 | I20: 0.45
G21: =$C20*G20 -> 12284.224 | H21: =$C20*H20 -> 32757.93 | I21: =$C20*I20 -> 36852.671
A22: 6 | B22: ESQUADRIAS | C22: =ORÇAMENTO!E186 -> 292382.09 | D22: =(C22/$C$65) -> 0.12972072 | I22: 0.1 | J22: 0.4 | K22: 0.3 | L22: 0.2
H23: =$C22*H22 -> 0 | I23: =$C22*I22 -> 29238.209 | J23: =$C22*J22 -> 116952.84 | K23: =$C22*K22 -> 87714.627 | L23: =$C22*L22 -> 58476.418
A24: 7 | B24: SISTEMAS DE COBERTURA | C24: =ORÇAMENTO!E195 -> 339677.06 | D24: =(C24/$C$65) -> 0.15070401 | G24: 0.25 | H24: 0.35 | I24: 0.25 | J24: 0.15
G25: =$C24*G24 -> 84919.266 | H25: =$C24*H24 -> 118886.97 | I25: =$C24*I24 -> 84919.266 | J25: =J24*C24 -> 50951.559
A26: 8 | B26: IMPERMEABILIZAÇÃO | C26: =ORÇAMENTO!E199 -> 6277.431 | D26: =(C26/$C$65) -> 0.0027850983 | G26: 1
G27: =$C26*G26 -> 6277.431
A28: 9 | B28: REVESTIMENTOS INTERNOS E EXTERNOS | C28: =ORÇAMENTO!E214 -> 272433.91 | D28: =(C28/$C$65) -> 0.12087034 | H28: 0.15 | I28: 0.2 | J28: 0.2 | K28: 0.2 | L28: 0.2 | M28: 0.05
H29: =$C28*H28 -> 40865.087 | I29: =$C28*I28 -> 54486.783 | J29: =$C28*J28 -> 54486.783 | K29: =K28*C28 -> 54486.783 | L29: =L28*C28 -> 54486.783 | M29: =M28*C28 -> 13621.696
A30: 10 | B30: SISTEMAS DE PISOS INTERNOS E EXTERNOS (PAVIMENTAÇÃO) | C30: =ORÇAMENTO!E239 -> 255868.43 | D30: =(C30/$C$65) -> 0.11352076 | H30: 0.15 | I30: 0.15 | J30: 0.25 | K30: 0.2 | L30: 0.25
H31: =$C30*H30 -> 38380.264 | I31: =$C30*I30 -> 38380.264 | J31: =$C30*J30 -> 63967.107 | K31: =K30*C30 -> 51173.686 | L31: =L30*C30 -> 63967.107
A32: 11 | B32: PINTURA | C32: =ORÇAMENTO!E248 -> 78674.493 | D32: =(C32/$C$65) -> 0.034905394 | K32: 0.3 | L32: 0.25 | M32: 0.4 | N32: 0.05
K33: =K32*$C32 -> 23602.348 | L33: =L32*$C32 -> 19668.623 | M33: =M32*$C32 -> 31469.797 | N33: =N32*$C32 -> 3933.7247
A34: 12 | B34: INSTALAÇÃO HIDRÁULICA | C34: =ORÇAMENTO!E332 -> 39234.032 | D34: =(C34/$C$65) -> 0.017406904 | H34: 0.1 | I34: 0.2 | J34: 0.3 | K34: 0.2 | L34: 0.1 | M34: 0.1
H35: =$C34*H34 -> 3923.4032 | I35: =$C34*I34 -> 7846.8064 | J35: =$C34*J34 -> 11770.21 | K35: =K34*C34 -> 7846.8064 | L35: =L34*C34 -> 3923.4032 | M35: =M34*C34 -> 3923.4032
A36: 13 | B36: DRENAGEM DE ÁGUAS PLUVIAIS | C36: =ORÇAMENTO!E346 -> 17419.613 | D36: =(C36/$C$65) -> 0.0077285334 | I36: 0.2 | J36: 0.2 | K36: 0.3 | L36: 0.25 | M36: 0.05
I37: =$C36*I36 -> 3483.9226 | J37: =$C36*J36 -> 3483.9226 | K37: =$C36*K36 -> 5225.8839 | L37: =$C36*L36 -> 4354.9033 | M37: =M36*C36 -> 870.98065
A38: 14 | B38: INSTALAÇÃO SANITÁRIA | C38: =ORÇAMENTO!E389 -> 46833.053 | D38: =(C38/$C$65) -> 0.02077835 | H38: 0.2 | I38: 0.2 | J38: 0.2 | K38: 0.2 | L38: 0.2
H39: =$C38*H38 -> 9366.6106 | I39: =$C38*I38 -> 9366.6106 | J39: =$C38*J38 -> 9366.6106 | K39: =$C38*K38 -> 9366.6106 | L39: =$C38*L38 -> 9366.6106
A40: 15 | B40: LOUÇAS E METAIS | C40: =ORÇAMENTO!E422 -> 61616.889 | D40: =(C40/$C$65) -> 0.027337472 | J40: 0.1 | K40: 0.2 | L40: 0.3 | M40: 0.4
J41: =$C40*J40 -> 6161.6889 | K41: =$C40*K40 -> 12323.378 | L41: =L40*C40 -> 18485.067 | M41: =M40*C40 -> 24646.755
A42: 16 | B42: INSTALAÇÃO DE GÁS COMBUSTÍVEL | C42: =ORÇAMENTO!E445 -> 6001.5297 | D42: =(C42/$C$65) -> 0.0026626896 | H42: 0.3 | I42: 0.3 | L42: 0.2 | M42: 0.2
H43: =$C42*H42 -> 1800.4589 | I43: =$C42*I42 -> 1800.4589 | L43: =L42*C42 -> 1200.3059 | M43: =M42*C42 -> 1200.3059
A44: 17 | B44: SISTEMA DE PROTEÇÃO CONTRA INCÊNDIO | C44: =ORÇAMENTO!E477 -> 35544.809 | D44: =(C44/$C$65) -> 0.015770112 | H44: 0.05 | I44: 0.1 | J44: 0.1 | K44: 0.2 | L44: 0.3 | M44: 0.25
...
